BEGIN:VCALENDAR
VERSION:2.0
PRODID:-//Sabre//Sabre VObject 4.5.7//EN
CALSCALE:GREGORIAN
BEGIN:VEVENT
UID:sabre-vobject-3b7fbd5a-3a4e-4664-ae7d-dc6905239e1d
DTSTAMP:20260424T010254Z
SUMMARY:Jugendtreff im Borbyer Gemeindehaus
DTSTART;TZID=Europe/Berlin:20260423T170000
ORGANIZER;CN=Ev.-Luth. Kirchengemeinde Eckernförde:MAILTO:kirchenbuero.eck
 ernfoerde@kkre.de
LOCATION:Gemeindehaus\, Borbyer Pastorenweg 1\, Eckernförde
GEO:54.4801957;9.8388791
DESCRIPTION:Mach mit und erlebe Aktionen\, die richtig Spaß machen!\nDer J
 ugendtreff für Jugendliche ab 13 Jahren&nbsp\;findet zweiwöchentlich (au
 ßer&nbsp\;in den&nbsp\;Ferien) im Gemeindehaus Borby (Borbyer Pastorenweg
  1) von 17-20 Uhr statt.&nbsp\;Gemeinsam planen wir\, welche Aktionen wir 
 bei den nächsten Treffen zusammen vorhaben.&nbsp\;Wir freuen uns auf Dich
 \, komm vorbei!
BEGIN:VALARM
TRIGGER;VALUE=DURATION:P1D
ACTION:DISPLAY
DESCRIPTION:Jugendtreff im Borbyer Gemeindehaus
END:VALARM
END:VEVENT
END:VCALENDAR
