BEGIN:VCALENDAR
VERSION:2.0
PRODID:-//Sabre//Sabre VObject 4.5.7//EN
CALSCALE:GREGORIAN
BEGIN:VEVENT
UID:sabre-vobject-5fe6e029-4910-4ae4-a8d5-0156932154b4
DTSTAMP:20260425T144203Z
SUMMARY:Konfirmationen in Nübel
DTSTART;TZID=Europe/Berlin:20260425T110000
ORGANIZER;CN=Ev.-Luth. Kirchengemeinde Angeln-Süd:MAILTO:kirchenbuero@ange
 ln-sued.de
LOCATION:Marienkirche Nübel\, Schulstraße 8\, Nübel
GEO:54.562993;9.583341
BEGIN:VALARM
TRIGGER;VALUE=DURATION:P1D
ACTION:DISPLAY
DESCRIPTION:Konfirmationen in Nübel
END:VALARM
END:VEVENT
END:VCALENDAR
