BEGIN:VCALENDAR
VERSION:2.0
PRODID:-//Sabre//Sabre VObject 4.5.7//EN
CALSCALE:GREGORIAN
BEGIN:VEVENT
UID:sabre-vobject-99e26b5a-62a3-473f-a42b-835493a1fea0
DTSTAMP:20260420T133621Z
SUMMARY:Konfirmationsgottesdienst 3
DTSTART;TZID=Europe/Berlin:20260425T100000
DTEND;TZID=Europe/Berlin:20260425T110000
ORGANIZER;CN=Ev.-Luth. Kirchengemeinde Eckernförde:MAILTO:kirchenbuero.eck
 ernfoerde@kkre.de
LOCATION:St. Nicolai-Kirche\, Kirchplatz 2\, Eckernförde
GEO:54.4719641;9.8361111
BEGIN:VALARM
TRIGGER;VALUE=DURATION:P1D
ACTION:DISPLAY
DESCRIPTION:Konfirmationsgottesdienst 3
END:VALARM
END:VEVENT
END:VCALENDAR
